BEGIN:VCALENDAR
VERSION:2.0
PRODID:-//ceres.rub.de//events//
CALSCALE:GREGORIAN
METHOD:PUBLISH
X-WR-TIMEZONE:UTC
BEGIN:VEVENT
SUMMARY:Infoveranstaltung Praktika und Auslandsstudium
DTSTART:20161214T130000Z
DTEND:20161214T150000Z
DTSTAMP:20260421T105129Z
UID:infoveranstaltung-praktika-3205@ceres.rub.de
CATEGORIES:
DESCRIPTION:Die Veranstaltung richtet sich an alle Studierende der Religio
 nwissenschaft\, die mehr über die Themen Auslandsstudium und Praktika erf
 ahren möchten. Neben allgemeinen Informationen ist  genügend Zeit einge
 plant\, um individuelle Fragen zu besprechen.\n\nDie Veranstaltung findet 
 auf dem RUB-Campus im HZO 60 statt.\n\nAllgemeine Informationen zum Auslan
 dsaufenthalte für Studierende der Religionswissenschaft hält die Website
  der Lehreinheit Religionswissenschaft hier bereit.\n
URL:https://studium.ceres.rub.de/de/veranstaltungen/infoveranstaltung-prak
 tika/
END:VEVENT
END:VCALENDAR
