BEGIN:VCALENDAR
VERSION:2.0
PRODID:-//ceres.rub.de//events//
CALSCALE:GREGORIAN
METHOD:PUBLISH
X-WR-TIMEZONE:UTC
BEGIN:VEVENT
SUMMARY:SoSe25_Academic Skills in the Study of Religion
DTSTART:20250715T080000Z
DTEND:20250715T100000Z
DTSTAMP:20260419T142320Z
UID:sose25_academic-skills-in-the-study-of-religion-12440@ceres.rub.de
CATEGORIES:
DESCRIPTION:
LOCATION:CERES-Palais\, Raum "Cordoba" (3.06)
URL:https://studium.ceres.rub.de/de/veranstaltungen/sose25_academic-skills
 -in-the-study-of-religion/
END:VEVENT
BEGIN:VEVENT
SUMMARY:SoSe25_Academic Skills in the Study of Religion
DTSTART:20250708T080000Z
DTEND:20250708T100000Z
DTSTAMP:20260419T142320Z
UID:sose25_academic-skills-in-the-study-of-religion-12439@ceres.rub.de
CATEGORIES:
DESCRIPTION:
LOCATION:CERES-Palais\, Raum "Cordoba" (3.06)
URL:https://studium.ceres.rub.de/de/veranstaltungen/sose25_academic-skills
 -in-the-study-of-religion/
END:VEVENT
BEGIN:VEVENT
SUMMARY:SoSe25_Academic Skills in the Study of Religion
DTSTART:20250701T080000Z
DTEND:20250701T100000Z
DTSTAMP:20260419T142320Z
UID:sose25_academic-skills-in-the-study-of-religion-12438@ceres.rub.de
CATEGORIES:
DESCRIPTION:
LOCATION:CERES-Palais\, Raum "Cordoba" (3.06)
URL:https://studium.ceres.rub.de/de/veranstaltungen/sose25_academic-skills
 -in-the-study-of-religion/
END:VEVENT
BEGIN:VEVENT
SUMMARY:SoSe25_Academic Skills in the Study of Religion
DTSTART:20250624T080000Z
DTEND:20250624T100000Z
DTSTAMP:20260419T142320Z
UID:sose25_academic-skills-in-the-study-of-religion-12437@ceres.rub.de
CATEGORIES:
DESCRIPTION:
LOCATION:CERES-Palais\, Raum "Cordoba" (3.06)
URL:https://studium.ceres.rub.de/de/veranstaltungen/sose25_academic-skills
 -in-the-study-of-religion/
END:VEVENT
BEGIN:VEVENT
SUMMARY:SoSe25_Academic Skills in the Study of Religion
DTSTART:20250617T080000Z
DTEND:20250617T100000Z
DTSTAMP:20260419T142320Z
UID:sose25_academic-skills-in-the-study-of-religion-12436@ceres.rub.de
CATEGORIES:
DESCRIPTION:
LOCATION:CERES-Palais\, Raum "Cordoba" (3.06)
URL:https://studium.ceres.rub.de/de/veranstaltungen/sose25_academic-skills
 -in-the-study-of-religion/
END:VEVENT
BEGIN:VEVENT
SUMMARY:SoSe25_Academic Skills in the Study of Religion
DTSTART:20250603T080000Z
DTEND:20250603T100000Z
DTSTAMP:20260419T142320Z
UID:sose25_academic-skills-in-the-study-of-religion-12435@ceres.rub.de
CATEGORIES:
DESCRIPTION:
LOCATION:CERES-Palais\, Raum "Cordoba" (3.06)
URL:https://studium.ceres.rub.de/de/veranstaltungen/sose25_academic-skills
 -in-the-study-of-religion/
END:VEVENT
BEGIN:VEVENT
SUMMARY:SoSe25_Academic Skills in the Study of Religion
DTSTART:20250527T080000Z
DTEND:20250527T100000Z
DTSTAMP:20260419T142320Z
UID:sose25_academic-skills-in-the-study-of-religion-12434@ceres.rub.de
CATEGORIES:
DESCRIPTION:
LOCATION:CERES-Palais\, Raum "Cordoba" (3.06)
URL:https://studium.ceres.rub.de/de/veranstaltungen/sose25_academic-skills
 -in-the-study-of-religion/
END:VEVENT
BEGIN:VEVENT
SUMMARY:SoSe25_Academic Skills in the Study of Religion
DTSTART:20250520T080000Z
DTEND:20250520T100000Z
DTSTAMP:20260419T142320Z
UID:sose25_academic-skills-in-the-study-of-religion-12433@ceres.rub.de
CATEGORIES:
DESCRIPTION:
LOCATION:CERES-Palais\, Raum "Cordoba" (3.06)
URL:https://studium.ceres.rub.de/de/veranstaltungen/sose25_academic-skills
 -in-the-study-of-religion/
END:VEVENT
BEGIN:VEVENT
SUMMARY:SoSe25_Academic Skills in the Study of Religion
DTSTART:20250513T080000Z
DTEND:20250513T100000Z
DTSTAMP:20260419T142320Z
UID:sose25_academic-skills-in-the-study-of-religion-12432@ceres.rub.de
CATEGORIES:
DESCRIPTION:
LOCATION:CERES-Palais\, Raum "Cordoba" (3.06)
URL:https://studium.ceres.rub.de/de/veranstaltungen/sose25_academic-skills
 -in-the-study-of-religion/
END:VEVENT
BEGIN:VEVENT
SUMMARY:SoSe25_Academic Skills in the Study of Religion
DTSTART:20250506T080000Z
DTEND:20250506T100000Z
DTSTAMP:20260419T142320Z
UID:sose25_academic-skills-in-the-study-of-religion-12431@ceres.rub.de
CATEGORIES:
DESCRIPTION:
LOCATION:CERES-Palais\, Raum "Cordoba" (3.06)
URL:https://studium.ceres.rub.de/de/veranstaltungen/sose25_academic-skills
 -in-the-study-of-religion/
END:VEVENT
BEGIN:VEVENT
SUMMARY:SoSe25_Academic Skills in the Study of Religion
DTSTART:20250429T080000Z
DTEND:20250429T100000Z
DTSTAMP:20260419T142320Z
UID:sose25_academic-skills-in-the-study-of-religion-12430@ceres.rub.de
CATEGORIES:
DESCRIPTION:
LOCATION:CERES-Palais\, Raum "Cordoba" (3.06)
URL:https://studium.ceres.rub.de/de/veranstaltungen/sose25_academic-skills
 -in-the-study-of-religion/
END:VEVENT
BEGIN:VEVENT
SUMMARY:SoSe25_Academic Skills in the Study of Religion
DTSTART:20250422T080000Z
DTEND:20250422T100000Z
DTSTAMP:20260419T142320Z
UID:sose25_academic-skills-in-the-study-of-religion-12429@ceres.rub.de
CATEGORIES:
DESCRIPTION:
LOCATION:CERES-Palais\, Raum "Cordoba" (3.06)
URL:https://studium.ceres.rub.de/de/veranstaltungen/sose25_academic-skills
 -in-the-study-of-religion/
END:VEVENT
BEGIN:VEVENT
SUMMARY:SoSe25_Academic Skills in the Study of Religion
DTSTART:20250415T080000Z
DTEND:20250415T100000Z
DTSTAMP:20260419T142320Z
UID:sose25_academic-skills-in-the-study-of-religion-12428@ceres.rub.de
CATEGORIES:
DESCRIPTION:
LOCATION:CERES-Palais\, Raum "Cordoba" (3.06)
URL:https://studium.ceres.rub.de/de/veranstaltungen/sose25_academic-skills
 -in-the-study-of-religion/
END:VEVENT
END:VCALENDAR
