BEGIN:VCALENDAR
VERSION:2.0
PRODID:-//ceres.rub.de//events//
CALSCALE:GREGORIAN
METHOD:PUBLISH
X-WR-TIMEZONE:UTC
BEGIN:VEVENT
SUMMARY:SoSe25_Between Texts and Archaeology. China before Buddhism.
DTSTART:20250718T080000Z
DTEND:20250718T100000Z
DTSTAMP:20260419T141259Z
UID:sose25_between-texts-and-archaeology-china-before-12826@ceres.rub.de
CATEGORIES:
DESCRIPTION:
LOCATION:CERES-Palais\, Raum "Cordoba" (3.06)
URL:https://studium.ceres.rub.de/de/veranstaltungen/sose25_between-texts-a
 nd-archaeology-china-before/
END:VEVENT
BEGIN:VEVENT
SUMMARY:SoSe25_Between Texts and Archaeology. China before Buddhism.
DTSTART:20250711T080000Z
DTEND:20250711T100000Z
DTSTAMP:20260419T141259Z
UID:sose25_between-texts-and-archaeology-china-before-12825@ceres.rub.de
CATEGORIES:
DESCRIPTION:
LOCATION:CERES-Palais\, Raum "Cordoba" (3.06)
URL:https://studium.ceres.rub.de/de/veranstaltungen/sose25_between-texts-a
 nd-archaeology-china-before/
END:VEVENT
BEGIN:VEVENT
SUMMARY:SoSe25_Between Texts and Archaeology. China before Buddhism.
DTSTART:20250704T080000Z
DTEND:20250704T100000Z
DTSTAMP:20260419T141259Z
UID:sose25_between-texts-and-archaeology-china-before-12824@ceres.rub.de
CATEGORIES:
DESCRIPTION:
LOCATION:CERES-Palais\, Raum "Cordoba" (3.06)
URL:https://studium.ceres.rub.de/de/veranstaltungen/sose25_between-texts-a
 nd-archaeology-china-before/
END:VEVENT
BEGIN:VEVENT
SUMMARY:SoSe25_Between Texts and Archaeology. China before Buddhism.
DTSTART:20250627T080000Z
DTEND:20250627T100000Z
DTSTAMP:20260419T141259Z
UID:sose25_between-texts-and-archaeology-china-before-12823@ceres.rub.de
CATEGORIES:
DESCRIPTION:
LOCATION:CERES-Palais\, Raum "Cordoba" (3.06)
URL:https://studium.ceres.rub.de/de/veranstaltungen/sose25_between-texts-a
 nd-archaeology-china-before/
END:VEVENT
BEGIN:VEVENT
SUMMARY:SoSe25_Between Texts and Archaeology. China before Buddhism.
DTSTART:20250620T080000Z
DTEND:20250620T100000Z
DTSTAMP:20260419T141259Z
UID:sose25_between-texts-and-archaeology-china-before-12822@ceres.rub.de
CATEGORIES:
DESCRIPTION:
LOCATION:CERES-Palais\, Raum "Cordoba" (3.06)
URL:https://studium.ceres.rub.de/de/veranstaltungen/sose25_between-texts-a
 nd-archaeology-china-before/
END:VEVENT
BEGIN:VEVENT
SUMMARY:SoSe25_Between Texts and Archaeology. China before Buddhism.
DTSTART:20250606T080000Z
DTEND:20250606T100000Z
DTSTAMP:20260419T141259Z
UID:sose25_between-texts-and-archaeology-china-before-12821@ceres.rub.de
CATEGORIES:
DESCRIPTION:
LOCATION:CERES-Palais\, Raum "Cordoba" (3.06)
URL:https://studium.ceres.rub.de/de/veranstaltungen/sose25_between-texts-a
 nd-archaeology-china-before/
END:VEVENT
BEGIN:VEVENT
SUMMARY:SoSe25_Between Texts and Archaeology. China before Buddhism.
DTSTART:20250530T080000Z
DTEND:20250530T100000Z
DTSTAMP:20260419T141259Z
UID:sose25_between-texts-and-archaeology-china-before-12820@ceres.rub.de
CATEGORIES:
DESCRIPTION:
LOCATION:CERES-Palais\, Raum "Cordoba" (3.06)
URL:https://studium.ceres.rub.de/de/veranstaltungen/sose25_between-texts-a
 nd-archaeology-china-before/
END:VEVENT
BEGIN:VEVENT
SUMMARY:SoSe25_Between Texts and Archaeology. China before Buddhism.
DTSTART:20250523T080000Z
DTEND:20250523T100000Z
DTSTAMP:20260419T141259Z
UID:sose25_between-texts-and-archaeology-china-before-12819@ceres.rub.de
CATEGORIES:
DESCRIPTION:
LOCATION:CERES-Palais\, Raum "Cordoba" (3.06)
URL:https://studium.ceres.rub.de/de/veranstaltungen/sose25_between-texts-a
 nd-archaeology-china-before/
END:VEVENT
BEGIN:VEVENT
SUMMARY:SoSe25_Between Texts and Archaeology. China before Buddhism.
DTSTART:20250516T080000Z
DTEND:20250516T100000Z
DTSTAMP:20260419T141259Z
UID:sose25_between-texts-and-archaeology-china-before-12818@ceres.rub.de
CATEGORIES:
DESCRIPTION:
LOCATION:CERES-Palais\, Raum "Cordoba" (3.06)
URL:https://studium.ceres.rub.de/de/veranstaltungen/sose25_between-texts-a
 nd-archaeology-china-before/
END:VEVENT
BEGIN:VEVENT
SUMMARY:SoSe25_Between Texts and Archaeology. China before Buddhism.
DTSTART:20250509T080000Z
DTEND:20250509T100000Z
DTSTAMP:20260419T141259Z
UID:sose25_between-texts-and-archaeology-china-before-12817@ceres.rub.de
CATEGORIES:
DESCRIPTION:
LOCATION:CERES-Palais\, Raum "Cordoba" (3.06)
URL:https://studium.ceres.rub.de/de/veranstaltungen/sose25_between-texts-a
 nd-archaeology-china-before/
END:VEVENT
BEGIN:VEVENT
SUMMARY:SoSe25_Between Texts and Archaeology. China before Buddhism.
DTSTART:20250502T080000Z
DTEND:20250502T100000Z
DTSTAMP:20260419T141259Z
UID:sose25_between-texts-and-archaeology-china-before-12816@ceres.rub.de
CATEGORIES:
DESCRIPTION:
LOCATION:CERES-Palais\, Raum "Cordoba" (3.06)
URL:https://studium.ceres.rub.de/de/veranstaltungen/sose25_between-texts-a
 nd-archaeology-china-before/
END:VEVENT
BEGIN:VEVENT
SUMMARY:SoSe25_Between Texts and Archaeology. China before Buddhism.
DTSTART:20250425T080000Z
DTEND:20250425T100000Z
DTSTAMP:20260419T141259Z
UID:sose25_between-texts-and-archaeology-china-before-12815@ceres.rub.de
CATEGORIES:
DESCRIPTION:
LOCATION:CERES-Palais\, Raum "Cordoba" (3.06)
URL:https://studium.ceres.rub.de/de/veranstaltungen/sose25_between-texts-a
 nd-archaeology-china-before/
END:VEVENT
BEGIN:VEVENT
SUMMARY:SoSe25_Between Texts and Archaeology. China before Buddhism.
DTSTART:20250411T080000Z
DTEND:20250411T100000Z
DTSTAMP:20260419T141259Z
UID:sose25_between-texts-and-archaeology-china-before-12814@ceres.rub.de
CATEGORIES:
DESCRIPTION:
LOCATION:CERES-Palais\, Raum "Cordoba" (3.06)
URL:https://studium.ceres.rub.de/de/veranstaltungen/sose25_between-texts-a
 nd-archaeology-china-before/
END:VEVENT
END:VCALENDAR
