BEGIN:VCALENDAR
VERSION:2.0
PRODID:-//ceres.rub.de//events//
CALSCALE:GREGORIAN
METHOD:PUBLISH
X-WR-TIMEZONE:UTC
BEGIN:VEVENT
SUMMARY:SoSe25_Leichte tibetische Lektüre
DTSTART:20250716T100000Z
DTEND:20250716T120000Z
DTSTAMP:20260419T141556Z
UID:sose25_leichte-tibetische-lekture-12641@ceres.rub.de
CATEGORIES:
DESCRIPTION:
LOCATION:CERES-Palais\, Raum "Gandhara" (1.11)
URL:https://studium.ceres.rub.de/de/veranstaltungen/sose25_leichte-tibetis
 che-lekture/
END:VEVENT
BEGIN:VEVENT
SUMMARY:SoSe25_Leichte tibetische Lektüre
DTSTART:20250709T100000Z
DTEND:20250709T120000Z
DTSTAMP:20260419T141556Z
UID:sose25_leichte-tibetische-lekture-12640@ceres.rub.de
CATEGORIES:
DESCRIPTION:
LOCATION:CERES-Palais\, Raum "Gandhara" (1.11)
URL:https://studium.ceres.rub.de/de/veranstaltungen/sose25_leichte-tibetis
 che-lekture/
END:VEVENT
BEGIN:VEVENT
SUMMARY:SoSe25_Leichte tibetische Lektüre
DTSTART:20250702T100000Z
DTEND:20250702T120000Z
DTSTAMP:20260419T141556Z
UID:sose25_leichte-tibetische-lekture-12639@ceres.rub.de
CATEGORIES:
DESCRIPTION:
LOCATION:CERES-Palais\, Raum "Gandhara" (1.11)
URL:https://studium.ceres.rub.de/de/veranstaltungen/sose25_leichte-tibetis
 che-lekture/
END:VEVENT
BEGIN:VEVENT
SUMMARY:SoSe25_Leichte tibetische Lektüre
DTSTART:20250625T100000Z
DTEND:20250625T120000Z
DTSTAMP:20260419T141556Z
UID:sose25_leichte-tibetische-lekture-12638@ceres.rub.de
CATEGORIES:
DESCRIPTION:
LOCATION:CERES-Palais\, Raum "Gandhara" (1.11)
URL:https://studium.ceres.rub.de/de/veranstaltungen/sose25_leichte-tibetis
 che-lekture/
END:VEVENT
BEGIN:VEVENT
SUMMARY:SoSe25_Leichte tibetische Lektüre
DTSTART:20250618T100000Z
DTEND:20250618T120000Z
DTSTAMP:20260419T141556Z
UID:sose25_leichte-tibetische-lekture-12637@ceres.rub.de
CATEGORIES:
DESCRIPTION:
LOCATION:CERES-Palais\, Raum "Gandhara" (1.11)
URL:https://studium.ceres.rub.de/de/veranstaltungen/sose25_leichte-tibetis
 che-lekture/
END:VEVENT
BEGIN:VEVENT
SUMMARY:SoSe25_Leichte tibetische Lektüre
DTSTART:20250604T100000Z
DTEND:20250604T120000Z
DTSTAMP:20260419T141556Z
UID:sose25_leichte-tibetische-lekture-12636@ceres.rub.de
CATEGORIES:
DESCRIPTION:
LOCATION:CERES-Palais\, Raum "Gandhara" (1.11)
URL:https://studium.ceres.rub.de/de/veranstaltungen/sose25_leichte-tibetis
 che-lekture/
END:VEVENT
BEGIN:VEVENT
SUMMARY:SoSe25_Leichte tibetische Lektüre
DTSTART:20250528T100000Z
DTEND:20250528T120000Z
DTSTAMP:20260419T141556Z
UID:sose25_leichte-tibetische-lekture-12635@ceres.rub.de
CATEGORIES:
DESCRIPTION:
LOCATION:CERES-Palais\, Raum "Gandhara" (1.11)
URL:https://studium.ceres.rub.de/de/veranstaltungen/sose25_leichte-tibetis
 che-lekture/
END:VEVENT
BEGIN:VEVENT
SUMMARY:SoSe25_Leichte tibetische Lektüre
DTSTART:20250521T100000Z
DTEND:20250521T120000Z
DTSTAMP:20260419T141556Z
UID:sose25_leichte-tibetische-lekture-12634@ceres.rub.de
CATEGORIES:
DESCRIPTION:
LOCATION:CERES-Palais\, Raum "Gandhara" (1.11)
URL:https://studium.ceres.rub.de/de/veranstaltungen/sose25_leichte-tibetis
 che-lekture/
END:VEVENT
BEGIN:VEVENT
SUMMARY:SoSe25_Leichte tibetische Lektüre
DTSTART:20250514T100000Z
DTEND:20250514T120000Z
DTSTAMP:20260419T141556Z
UID:sose25_leichte-tibetische-lekture-12633@ceres.rub.de
CATEGORIES:
DESCRIPTION:
LOCATION:CERES-Palais\, Raum "Gandhara" (1.11)
URL:https://studium.ceres.rub.de/de/veranstaltungen/sose25_leichte-tibetis
 che-lekture/
END:VEVENT
BEGIN:VEVENT
SUMMARY:SoSe25_Leichte tibetische Lektüre
DTSTART:20250507T100000Z
DTEND:20250507T120000Z
DTSTAMP:20260419T141556Z
UID:sose25_leichte-tibetische-lekture-12632@ceres.rub.de
CATEGORIES:
DESCRIPTION:
LOCATION:CERES-Palais\, Raum "Gandhara" (1.11)
URL:https://studium.ceres.rub.de/de/veranstaltungen/sose25_leichte-tibetis
 che-lekture/
END:VEVENT
BEGIN:VEVENT
SUMMARY:SoSe25_Leichte tibetische Lektüre
DTSTART:20250430T100000Z
DTEND:20250430T120000Z
DTSTAMP:20260419T141556Z
UID:sose25_leichte-tibetische-lekture-12631@ceres.rub.de
CATEGORIES:
DESCRIPTION:
LOCATION:CERES-Palais\, Raum "Gandhara" (1.11)
URL:https://studium.ceres.rub.de/de/veranstaltungen/sose25_leichte-tibetis
 che-lekture/
END:VEVENT
BEGIN:VEVENT
SUMMARY:SoSe25_Leichte tibetische Lektüre
DTSTART:20250423T100000Z
DTEND:20250423T120000Z
DTSTAMP:20260419T141556Z
UID:sose25_leichte-tibetische-lekture-12630@ceres.rub.de
CATEGORIES:
DESCRIPTION:
LOCATION:CERES-Palais\, Raum "Gandhara" (1.11)
URL:https://studium.ceres.rub.de/de/veranstaltungen/sose25_leichte-tibetis
 che-lekture/
END:VEVENT
BEGIN:VEVENT
SUMMARY:SoSe25_Leichte tibetische Lektüre
DTSTART:20250416T100000Z
DTEND:20250416T120000Z
DTSTAMP:20260419T141556Z
UID:sose25_leichte-tibetische-lekture-12629@ceres.rub.de
CATEGORIES:
DESCRIPTION:
LOCATION:CERES-Palais\, Raum "Gandhara" (1.11)
URL:https://studium.ceres.rub.de/de/veranstaltungen/sose25_leichte-tibetis
 che-lekture/
END:VEVENT
BEGIN:VEVENT
SUMMARY:SoSe25_Leichte tibetische Lektüre
DTSTART:20250409T100000Z
DTEND:20250409T120000Z
DTSTAMP:20260419T141556Z
UID:sose25_leichte-tibetische-lekture-12628@ceres.rub.de
CATEGORIES:
DESCRIPTION:
LOCATION:CERES-Palais\, Raum "Gandhara" (1.11)
URL:https://studium.ceres.rub.de/de/veranstaltungen/sose25_leichte-tibetis
 che-lekture/
END:VEVENT
END:VCALENDAR
