BEGIN:VCALENDAR
VERSION:2.0
PRODID:-//ceres.rub.de//events//
CALSCALE:GREGORIAN
METHOD:PUBLISH
X-WR-TIMEZONE:UTC
BEGIN:VEVENT
SUMMARY:SoSe25_Religion & Biographie
DTSTART:20250714T070000Z
DTEND:20250714T100000Z
DTSTAMP:20260419T143907Z
UID:sose25_religion-biographie-12928@ceres.rub.de
CATEGORIES:
DESCRIPTION:
LOCATION:CERES-Palais\, Raum "Turfan" (0.13)
URL:https://studium.ceres.rub.de/de/veranstaltungen/sose25_religion-biogra
 phie/
END:VEVENT
BEGIN:VEVENT
SUMMARY:SoSe25_Religion & Biographie
DTSTART:20250630T070000Z
DTEND:20250630T100000Z
DTSTAMP:20260419T143907Z
UID:sose25_religion-biographie-12927@ceres.rub.de
CATEGORIES:
DESCRIPTION:
LOCATION:CERES-Palais\, Raum "Turfan" (0.13)
URL:https://studium.ceres.rub.de/de/veranstaltungen/sose25_religion-biogra
 phie/
END:VEVENT
BEGIN:VEVENT
SUMMARY:SoSe25_Religion & Biographie
DTSTART:20250616T070000Z
DTEND:20250616T100000Z
DTSTAMP:20260419T143907Z
UID:sose25_religion-biographie-12926@ceres.rub.de
CATEGORIES:
DESCRIPTION:
LOCATION:CERES-Palais\, Raum "Turfan" (0.13)
URL:https://studium.ceres.rub.de/de/veranstaltungen/sose25_religion-biogra
 phie/
END:VEVENT
BEGIN:VEVENT
SUMMARY:SoSe25_Religion & Biographie
DTSTART:20250602T070000Z
DTEND:20250602T100000Z
DTSTAMP:20260419T143907Z
UID:sose25_religion-biographie-12925@ceres.rub.de
CATEGORIES:
DESCRIPTION:
LOCATION:CERES-Palais\, Raum "Turfan" (0.13)
URL:https://studium.ceres.rub.de/de/veranstaltungen/sose25_religion-biogra
 phie/
END:VEVENT
BEGIN:VEVENT
SUMMARY:SoSe25_Religion & Biographie
DTSTART:20250519T070000Z
DTEND:20250519T100000Z
DTSTAMP:20260419T143907Z
UID:sose25_religion-biographie-12924@ceres.rub.de
CATEGORIES:
DESCRIPTION:
LOCATION:CERES-Palais\, Raum "Turfan" (0.13)
URL:https://studium.ceres.rub.de/de/veranstaltungen/sose25_religion-biogra
 phie/
END:VEVENT
BEGIN:VEVENT
SUMMARY:SoSe25_Religion & Biographie
DTSTART:20250505T070000Z
DTEND:20250505T100000Z
DTSTAMP:20260419T143907Z
UID:sose25_religion-biographie-12923@ceres.rub.de
CATEGORIES:
DESCRIPTION:
LOCATION:CERES-Palais\, Raum "Turfan" (0.13)
URL:https://studium.ceres.rub.de/de/veranstaltungen/sose25_religion-biogra
 phie/
END:VEVENT
END:VCALENDAR
